BEGIN:VCALENDAR
VERSION:2.0
PRODID:-//Island Home Park - ECPv6.15.20//NONSGML v1.0//EN
CALSCALE:GREGORIAN
METHOD:PUBLISH
X-ORIGINAL-URL:https://islandhomepark.community
X-WR-CALDESC:Events for Island Home Park
REFRESH-INTERVAL;VALUE=DURATION:PT1H
X-Robots-Tag:noindex
X-PUBLISHED-TTL:PT1H
BEGIN:VTIMEZONE
TZID:America/New_York
BEGIN:DAYLIGHT
TZOFFSETFROM:-0500
TZOFFSETTO:-0400
TZNAME:EDT
DTSTART:20220313T070000
END:DAYLIGHT
BEGIN:STANDARD
TZOFFSETFROM:-0400
TZOFFSETTO:-0500
TZNAME:EST
DTSTART:20221106T060000
END:STANDARD
BEGIN:DAYLIGHT
TZOFFSETFROM:-0500
TZOFFSETTO:-0400
TZNAME:EDT
DTSTART:20230312T070000
END:DAYLIGHT
BEGIN:STANDARD
TZOFFSETFROM:-0400
TZOFFSETTO:-0500
TZNAME:EST
DTSTART:20231105T060000
END:STANDARD
BEGIN:DAYLIGHT
TZOFFSETFROM:-0500
TZOFFSETTO:-0400
TZNAME:EDT
DTSTART:20240310T070000
END:DAYLIGHT
BEGIN:STANDARD
TZOFFSETFROM:-0400
TZOFFSETTO:-0500
TZNAME:EST
DTSTART:20241103T060000
END:STANDARD
BEGIN:DAYLIGHT
TZOFFSETFROM:-0500
TZOFFSETTO:-0400
TZNAME:EDT
DTSTART:20250309T070000
END:DAYLIGHT
BEGIN:STANDARD
TZOFFSETFROM:-0400
TZOFFSETTO:-0500
TZNAME:EST
DTSTART:20251102T060000
END:STANDARD
BEGIN:DAYLIGHT
TZOFFSETFROM:-0500
TZOFFSETTO:-0400
TZNAME:EDT
DTSTART:20260308T070000
END:DAYLIGHT
BEGIN:STANDARD
TZOFFSETFROM:-0400
TZOFFSETTO:-0500
TZNAME:EST
DTSTART:20261101T060000
END:STANDARD
END:VTIMEZONE
BEGIN:VTIMEZONE
TZID:UTC
BEGIN:STANDARD
TZOFFSETFROM:+0000
TZOFFSETTO:+0000
TZNAME:UTC
DTSTART:20220101T000000
END:STANDARD
END:VTIMEZONE
BEGIN:VEVENT
DTSTART;TZID=America/New_York:20251213T180000
DTEND;TZID=America/New_York:20251213T210000
DTSTAMP:20260423T135019
CREATED:20251115T182552Z
LAST-MODIFIED:20251115T183437Z
UID:2367-1765648800-1765659600@islandhomepark.community
SUMMARY:Christmas Gathering
DESCRIPTION:Join us for this adults only holiday gathering. Hosted by Matt Park at his home on Island Home Boulevard.
URL:https://islandhomepark.community/event/christmas-gathering/
END:VEVENT
BEGIN:VEVENT
DTSTART;TZID=America/New_York:20251130T170000
DTEND;TZID=America/New_York:20251130T170000
DTSTAMP:20260423T135019
CREATED:20251115T182257Z
LAST-MODIFIED:20251115T182258Z
UID:2365-1764522000-1764522000@islandhomepark.community
SUMMARY:Children's Tree Lighting
DESCRIPTION:Join us for this annual tradition of decorating and lighting the children’s Christmas tree at Island Home Park. We will gather at the top of the park at the corner of Spence and Watson. 
URL:https://islandhomepark.community/event/childrens-tree-lighting-2/
END:VEVENT
BEGIN:VEVENT
DTSTART;TZID=America/New_York:20251014T180000
DTEND;TZID=America/New_York:20251014T190000
DTSTAMP:20260423T135019
CREATED:20251012T121426Z
LAST-MODIFIED:20251012T121427Z
UID:2345-1760464800-1760468400@islandhomepark.community
SUMMARY:Annual Neighborhood Meeting
DESCRIPTION:Pizza will be furnished by the association\, drinks  can be purchased\, and bottled water is free. Visit with neighbors\, hear the latest Island Home Park news and vote for the Board of Governors and we will elect new officers at the 2026 Annual Meeting. Nominees are listed on the website\, and additional nominations can be made at the meeting.
URL:https://islandhomepark.community/event/annual-neighborhood-meeting/
LOCATION:South Coast Pizza\, 1103 Sevier Ave.\, Tennessee\, 37920\, United States
END:VEVENT
BEGIN:VEVENT
DTSTART;TZID=America/New_York:20250912T180000
DTEND;TZID=America/New_York:20250912T210000
DTSTAMP:20260423T135019
CREATED:20250325T220031Z
LAST-MODIFIED:20250327T160930Z
UID:2259-1757700000-1757710800@islandhomepark.community
SUMMARY:Porch Hop
DESCRIPTION:BYOB and join neighbors for this adults only gathering. Kathy and Joey Brown will host at their home\, located on Spence Place.
URL:https://islandhomepark.community/event/porch-hop-5/
END:VEVENT
BEGIN:VEVENT
DTSTART;TZID=America/New_York:20250822T180000
DTEND;TZID=America/New_York:20250822T210000
DTSTAMP:20260423T135019
CREATED:20250325T221253Z
LAST-MODIFIED:20250327T160949Z
UID:2263-1755885600-1755896400@islandhomepark.community
SUMMARY:Porch Hop
DESCRIPTION:BYOB and join us for an adults only gathering. Annabel and Don Henley will host at their home\, located on Willis Place.
URL:https://islandhomepark.community/event/porch-hop-7/
END:VEVENT
BEGIN:VEVENT
DTSTART;TZID=America/New_York:20250725T180000
DTEND;TZID=America/New_York:20250725T210000
DTSTAMP:20260423T135019
CREATED:20250325T215904Z
LAST-MODIFIED:20250327T161005Z
UID:2257-1753466400-1753477200@islandhomepark.community
SUMMARY:Porch Hop
DESCRIPTION:BYOB and join neighbors for this family friendly gathering where kids are welcome! Megan and Mike Martin will host at their home\, located on Maplewood Drive.
URL:https://islandhomepark.community/event/porch-hop-4/
END:VEVENT
BEGIN:VEVENT
DTSTART;TZID=America/New_York:20250704T113000
DTEND;TZID=America/New_York:20250704T113000
DTSTAMP:20260423T135019
CREATED:20250610T165022Z
LAST-MODIFIED:20250610T165023Z
UID:2313-1751628600-1751628600@islandhomepark.community
SUMMARY:July 4th Celebration
DESCRIPTION:Join us on the boulevard for the annual July 4th celebration! The neighborhood parade will start at 11:30 am\, followed by a picnic on the median.
URL:https://islandhomepark.community/event/july-4th-celebration/
END:VEVENT
BEGIN:VEVENT
DTSTART;TZID=America/New_York:20250620T180000
DTEND;TZID=America/New_York:20250620T210000
DTSTAMP:20260423T135019
CREATED:20250325T220454Z
LAST-MODIFIED:20250327T161024Z
UID:2261-1750442400-1750453200@islandhomepark.community
SUMMARY:Porch Hop
DESCRIPTION:BYOB and join neighbors for this adults only gathering. Katie and Po Hannah will host at their home\, located on Fisher Place.
URL:https://islandhomepark.community/event/porch-hop-6/
END:VEVENT
BEGIN:VEVENT
DTSTART;TZID=America/New_York:20250502T180000
DTEND;TZID=America/New_York:20250502T210000
DTSTAMP:20260423T135019
CREATED:20250325T215349Z
LAST-MODIFIED:20250327T161048Z
UID:2253-1746208800-1746219600@islandhomepark.community
SUMMARY:Porch Hop
DESCRIPTION:BYOB and join neighbors for this adults only gathering. Krista and Michael Jordan will host at their home\, located on Island Home Boulevard.
URL:https://islandhomepark.community/event/porch-hop-2/
END:VEVENT
BEGIN:VEVENT
DTSTART;TZID=America/New_York:20250412T100000
DTEND;TZID=America/New_York:20250412T110000
DTSTAMP:20260423T135019
CREATED:20250214T210500Z
LAST-MODIFIED:20250214T210501Z
UID:2222-1744452000-1744455600@islandhomepark.community
SUMMARY:Easter Egg Hunt
DESCRIPTION:
URL:https://islandhomepark.community/event/easter-egg-hunt/
LOCATION:Island Home Park\, 2225 Estelle Circle\, Knoxville\, Tennessee\, 37920
END:VEVENT
BEGIN:VEVENT
DTSTART;TZID=America/New_York:20250412T090000
DTEND;TZID=America/New_York:20250412T120000
DTSTAMP:20260423T135019
CREATED:20250325T214546Z
LAST-MODIFIED:20250325T214546Z
UID:2246-1744448400-1744459200@islandhomepark.community
SUMMARY:South Knoxville Clean Up
DESCRIPTION:Join your South Knoxville neighbors for a clean up event at Mary Vestal Park!
URL:https://islandhomepark.community/event/south-knoxville-clean-up/
END:VEVENT
BEGIN:VEVENT
DTSTART;TZID=America/New_York:20250328T160000
DTEND;TZID=America/New_York:20250328T180000
DTSTAMP:20260423T135019
CREATED:20250325T213942Z
LAST-MODIFIED:20250325T214743Z
UID:2244-1743177600-1743184800@islandhomepark.community
SUMMARY:Roots in South Knoxville
DESCRIPTION:Dogwood Elementary School Spring Fling
URL:https://islandhomepark.community/event/roots-in-south-knoxville/
LOCATION:Dogwood Elementary School\, 705 Tipton Ave\, Knoxville\, Tennessee\, 37920
END:VEVENT
BEGIN:VEVENT
DTSTART;TZID=America/New_York:20241223T180000
DTEND;TZID=America/New_York:20241223T200000
DTSTAMP:20260423T135019
CREATED:20241118T210714Z
LAST-MODIFIED:20241118T210714Z
UID:2205-1734976800-1734984000@islandhomepark.community
SUMMARY:Holiday Caroling
DESCRIPTION:Meet at 1942 Maplewood Drive at 6 pm. The carolers will make their way through the neighborhood and end at 2214 Fisher Place with seasonal drinks for children and adults.
URL:https://islandhomepark.community/event/holiday-caroling/
END:VEVENT
BEGIN:VEVENT
DTSTART;TZID=America/New_York:20241214T180000
DTEND;TZID=America/New_York:20241214T210000
DTSTAMP:20260423T135019
CREATED:20241118T210511Z
LAST-MODIFIED:20241118T210512Z
UID:2203-1734199200-1734210000@islandhomepark.community
SUMMARY:Holiday Party
DESCRIPTION:Join neighbors at 2104 Island Home Boulevard for a festive evening! This is an adults only party.
URL:https://islandhomepark.community/event/holiday-party/
END:VEVENT
BEGIN:VEVENT
DTSTART;TZID=America/New_York:20241208T140000
DTEND;TZID=America/New_York:20241208T160000
DTSTAMP:20260423T135019
CREATED:20241118T210240Z
LAST-MODIFIED:20241118T210242Z
UID:2201-1733666400-1733673600@islandhomepark.community
SUMMARY:Cookie Swap
DESCRIPTION:Meet at 1936 Maplewood to swap your favorite cookies! Attendees are asked to bring 4-6 dozen homemade cookies on a serving platter\, recipe copies to share\, and an empty container for swapped cookies. This is an adults only event.
URL:https://islandhomepark.community/event/cookie-swap/
END:VEVENT
BEGIN:VEVENT
DTSTART;TZID=America/New_York:20241201T170000
DTEND;TZID=America/New_York:20241201T180000
DTSTAMP:20260423T135019
CREATED:20241118T205813Z
LAST-MODIFIED:20241118T205815Z
UID:2199-1733072400-1733076000@islandhomepark.community
SUMMARY:Children's Tree Lighting
DESCRIPTION:Meet at the top of the park at Spence Place and Watson for this annual kickoff to the holiday season! Neighbors are invited to help decorate the tree and enjoy refreshments.
URL:https://islandhomepark.community/event/childrens-tree-lighting/
END:VEVENT
BEGIN:VEVENT
DTSTART;TZID=America/New_York:20241021T180000
DTEND;TZID=America/New_York:20241021T200000
DTSTAMP:20260423T135019
CREATED:20241001T095051Z
LAST-MODIFIED:20241001T095457Z
UID:2156-1729533600-1729540800@islandhomepark.community
SUMMARY:Annual Meeting
DESCRIPTION:Join us for our annual neighborhood meeting! We will have space reserved in the restaurant and will serve pizza. Drinks will be available for purchase.
URL:https://islandhomepark.community/event/annual-meeting-2/
LOCATION:South Coast Pizza\, 1103 Sevier Ave.\, Knoxville\, Tennessee\, 37920\, United States
END:VEVENT
BEGIN:VEVENT
DTSTART;TZID=America/New_York:20240704T110000
DTEND;TZID=America/New_York:20240704T130000
DTSTAMP:20260423T135019
CREATED:20240630T123432Z
LAST-MODIFIED:20240630T123433Z
UID:2139-1720090800-1720098000@islandhomepark.community
SUMMARY:July 4 Celebration
DESCRIPTION:Join us in the Island Home Blvd median on July 4\, 2024 to celebrate Independence Day!The Bike Parade steps off at 11am\, riding lawn mowers welcome and all manner of non-vehicle ridable contraptions.Potluck starts at 11:30 am with an Ice Cream Truck sponsored by KUB Fiber.The Knoxville Fire Department will join and cool us all off so bring your water gear!
URL:https://islandhomepark.community/event/july-4-celebration/
END:VEVENT
BEGIN:VEVENT
DTSTART;TZID=America/New_York:20240704T110000
DTEND;TZID=America/New_York:20240704T110000
DTSTAMP:20260423T135019
CREATED:20240704T120611Z
LAST-MODIFIED:20240704T120613Z
UID:2144-1720090800-1720090800@islandhomepark.community
SUMMARY:Fourth of July Celebration
DESCRIPTION:Celebrate Independence Day with the neighborhood! Decorate your bike\, trike\, scooter\, or riding lawn mower and join us on the median at 11:00 am for a parade. After the parade\, we’ll enjoy a potluck picnic with fried chicken\, hot dogs\, ice cream and more. Bring a side dish or dessert to share. There will also be a special appearance from local firefighters. Bring your lawn chairs\, blankets\, and outdoor games and enjoy the event with your neighbors!
URL:https://islandhomepark.community/event/fourth-of-july-celebration/
END:VEVENT
BEGIN:VEVENT
DTSTART;TZID=America/New_York:20240401T080000
DTEND;TZID=America/New_York:20240430T170000
DTSTAMP:20260423T135019
CREATED:20240318T160149Z
LAST-MODIFIED:20240318T160150Z
UID:1968-1711958400-1714496400@islandhomepark.community
SUMMARY:Dogwood Arts Trail
DESCRIPTION:The Dogwood Arts Trail will be open the entire month of April! Throughout the month\, visitors will cruise\, walk\, and bike through the neighborhood to see the Island Home Park trail.
URL:https://islandhomepark.community/event/dogwood-arts-trail/
END:VEVENT
BEGIN:VEVENT
DTSTART;TZID=America/New_York:20240330T100000
DTEND;TZID=America/New_York:20240330T100000
DTSTAMP:20260423T135019
CREATED:20240204T012700Z
LAST-MODIFIED:20240322T153220Z
UID:1950-1711792800-1711792800@islandhomepark.community
SUMMARY:Neighborhood Easter Egg Hunt
DESCRIPTION:Join us for the annual neighborhood Easter egg  hunt! Because of the weather forecast\, the original event\, scheduled for March 23\, was moved to March 30.
URL:https://islandhomepark.community/event/neighborhood-easter-egg-hunt/
LOCATION:Island Home Park\, 2225 Estelle Circle\, Knoxville\, 44\, 37920
END:VEVENT
BEGIN:VEVENT
DTSTART;TZID=America/New_York:20231219T180000
DTEND;TZID=America/New_York:20231219T190000
DTSTAMP:20260423T135019
CREATED:20231126T194533Z
LAST-MODIFIED:20231126T194534Z
UID:1922-1703008800-1703012400@islandhomepark.community
SUMMARY:Caroling through Island Home Park
DESCRIPTION:Meet at Laura Barton’s at 1942 Maplewood Dr. All ages are welcome! Carol through Island Home Park to end with hot cocoa\, eggnog\, and treats at Melisa Baldwin’s at 2214 Fisher Place. Questions? Email Laura at lpbarton2@comcast.net.
URL:https://islandhomepark.community/event/caroling-through-island-home-park/
END:VEVENT
BEGIN:VEVENT
DTSTART;TZID=America/New_York:20231210T123000
DTEND;TZID=America/New_York:20231210T143000
DTSTAMP:20260423T135019
CREATED:20231126T194250Z
LAST-MODIFIED:20231126T194251Z
UID:1920-1702211400-1702218600@islandhomepark.community
SUMMARY:Island Home Park Cookie Swap
DESCRIPTION:Gina Brace will host at 2208 Fisher Place. Bring 4-6 dozen cookies on a serving platter\, recipe copies if you’d like to share\, and an empty container for swapped cookies (adults only\, please). Questions? Email Gina at gkbrace@yahoo.com.
URL:https://islandhomepark.community/event/island-home-park-cookie-swap/
END:VEVENT
BEGIN:VEVENT
DTSTART;TZID=America/New_York:20231209T180000
DTEND;TZID=America/New_York:20231209T220000
DTSTAMP:20260423T135019
CREATED:20231126T193742Z
LAST-MODIFIED:20231126T193743Z
UID:1918-1702144800-1702159200@islandhomepark.community
SUMMARY:Island Home Park Holiday Party
DESCRIPTION:Matt and Jordan will host at 2104 Island Home Blvd. Celebrate the season with this adults only party! Questions? Email Matt at matthewrpark@gmail.com.
URL:https://islandhomepark.community/event/island-home-park-holiday-party/
END:VEVENT
BEGIN:VEVENT
DTSTART;TZID=America/New_York:20231203T170000
DTEND;TZID=America/New_York:20231203T180000
DTSTAMP:20260423T135019
CREATED:20231126T193417Z
LAST-MODIFIED:20231126T193455Z
UID:1915-1701622800-1701626400@islandhomepark.community
SUMMARY:Island Home Park Tree Lighting
DESCRIPTION:Meet at the top of the park at Spence Place & Watson Place. All ages are welcome to light the tree! Bring your own mug for hot cocoa.Questions? Email Jeannette at bo-deans@comcast.net.
URL:https://islandhomepark.community/event/island-home-park-tree-lighting/
END:VEVENT
BEGIN:VEVENT
DTSTART;TZID=America/New_York:20231027T180000
DTEND;TZID=America/New_York:20231027T210000
DTSTAMP:20260423T135019
CREATED:20230910T200040Z
LAST-MODIFIED:20230910T200041Z
UID:1894-1698429600-1698440400@islandhomepark.community
SUMMARY:October Porch Hop
DESCRIPTION:Hosted by the Deans and the Withers\, this will be the last one of the year!
URL:https://islandhomepark.community/event/porch-hop/
END:VEVENT
BEGIN:VEVENT
DTSTART;TZID=America/New_York:20230927T180000
DTEND;TZID=America/New_York:20230927T200000
DTSTAMP:20260423T135019
CREATED:20230910T192854Z
LAST-MODIFIED:20230910T192856Z
UID:1892-1695837600-1695844800@islandhomepark.community
SUMMARY:Island Home Park Annual Neighborhood Meeting
DESCRIPTION:Please save the date for our Annual Neighborhood Meeting including Board and Officer elections! The meeting will be held at the Downtown Island Airport Community Hangar. More details to come soon. We are looking forward to seeing everyone there!
URL:https://islandhomepark.community/event/annual-meeting/
END:VEVENT
BEGIN:VEVENT
DTSTART;TZID=UTC:20230225T170000
DTEND;TZID=UTC:20230225T190000
DTSTAMP:20260423T135019
CREATED:20230221T224639Z
LAST-MODIFIED:20230221T181519Z
UID:1804-1677344400-1677351600@islandhomepark.community
SUMMARY:KAT Reimagined Public Meeting 2
DESCRIPTION:
URL:https://islandhomepark.community/event/kat-reimagined-public-meeting-2/
LOCATION:Community Room at Knoxville Station
CATEGORIES:Community-Wide Event
ATTACH;FMTTYPE=image/jpeg:https://islandhomepark.community/wp-content/uploads/2022/09/IslandHomeEntrance02s.jpg
END:VEVENT
BEGIN:VEVENT
DTSTART;TZID=UTC:20230223T170000
DTEND;TZID=UTC:20230223T190000
DTSTAMP:20260423T135019
CREATED:20230221T175452Z
LAST-MODIFIED:20230221T181533Z
UID:1812-1677171600-1677178800@islandhomepark.community
SUMMARY:KAT Reimagined Public Meeting 1
DESCRIPTION:
URL:https://islandhomepark.community/event/kat-reimagined-public-meeting-1/
LOCATION:Community Room at Knoxville Station
CATEGORIES:Community-Wide Event
ATTACH;FMTTYPE=image/jpeg:https://islandhomepark.community/wp-content/uploads/2022/09/IslandHomeEntrance02s.jpg
END:VEVENT
END:VCALENDAR